
BEGIN:VCALENDAR
VERSION:2.0
PRODID:-//SBACVSP - ECPv6.15.20//NONSGML v1.0//EN
CALSCALE:GREGORIAN
METHOD:PUBLISH
X-WR-CALNAME:SBACVSP
X-ORIGINAL-URL:https://sbacvsp.com.br
X-WR-CALDESC:Eventos para SBACVSP
REFRESH-INTERVAL;VALUE=DURATION:PT1H
X-Robots-Tag:noindex
X-PUBLISHED-TTL:PT1H
BEGIN:VTIMEZONE
TZID:America/Sao_Paulo
BEGIN:STANDARD
TZOFFSETFROM:-0300
TZOFFSETTO:-0300
TZNAME:-03
DTSTART:20250101T000000
END:STANDARD
END:VTIMEZONE
BEGIN:VEVENT
DTSTART;VALUE=DATE:20260423
DTEND;VALUE=DATE:20260426
DTSTAMP:20260423T061551
CREATED:20260116T144559Z
LAST-MODIFIED:20260116T213455Z
UID:29388-1776902400-1777161599@sbacvsp.com.br
SUMMARY:CISP Congresso Internacional São Paulo de Cirurgia Vascular e Endovascular 2026 / XXIV Encontro São Paulo
DESCRIPTION:
URL:https://sbacvsp.com.br/evento/cisp-congresso-internacional-sao-paulo-de-cirurgia-vascular-e-endovascular-2026-xxiv-encontro-sao-paulo/
LOCATION:Centro de Convenções Rebouças\, SP\, Brazil
CATEGORIES:CISP
ATTACH;FMTTYPE=image/jpeg:https://vascular-2022-bucket.s3.amazonaws.com/wp-content/uploads/2026/01/16091705/5-Logo-CISP-1080.jpg
ORGANIZER;CN="SBACV-SP":MAILTO:secretaria@sbacvsp.org.br
END:VEVENT
END:VCALENDAR