
BEGIN:VCALENDAR
VERSION:2.0
PRODID:-//SBACVSP - ECPv6.15.20//NONSGML v1.0//EN
CALSCALE:GREGORIAN
METHOD:PUBLISH
X-WR-CALNAME:SBACVSP
X-ORIGINAL-URL:https://sbacvsp.com.br
X-WR-CALDESC:Eventos para SBACVSP
REFRESH-INTERVAL;VALUE=DURATION:PT1H
X-Robots-Tag:noindex
X-PUBLISHED-TTL:PT1H
BEGIN:VTIMEZONE
TZID:America/Sao_Paulo
BEGIN:STANDARD
TZOFFSETFROM:-0300
TZOFFSETTO:-0300
TZNAME:-03
DTSTART:20240101T000000
END:STANDARD
END:VTIMEZONE
BEGIN:VEVENT
DTSTART;VALUE=DATE:20251107
DTEND;VALUE=DATE:20251109
DTSTAMP:20260423T051110
CREATED:20250319T020704Z
LAST-MODIFIED:20250320T171254Z
UID:26102-1762473600-1762646399@sbacvsp.com.br
SUMMARY:CBEV 2025 São Paulo - XI Congresso Brasileiro de Ecografia Vascular
DESCRIPTION:
URL:https://sbacvsp.com.br/evento/cbev-2025-sao-paulo-xi-congresso-brasileiro-de-ecografia-vascular/
LOCATION:InterContinental São Paulo\, an IHG Hotel\, São Paulo\, SP\, Brazil
CATEGORIES:Congresso
ATTACH;FMTTYPE=image/jpeg:https://vascular-2022-bucket.s3.amazonaws.com/wp-content/uploads/2025/03/18193628/CBEV-2025.jpg
END:VEVENT
END:VCALENDAR