
BEGIN:VCALENDAR
VERSION:2.0
PRODID:-//SBACVSP - ECPv6.15.20//NONSGML v1.0//EN
CALSCALE:GREGORIAN
METHOD:PUBLISH
X-WR-CALNAME:SBACVSP
X-ORIGINAL-URL:https://sbacvsp.com.br
X-WR-CALDESC:Eventos para SBACVSP
REFRESH-INTERVAL;VALUE=DURATION:PT1H
X-Robots-Tag:noindex
X-PUBLISHED-TTL:PT1H
BEGIN:VTIMEZONE
TZID:America/Sao_Paulo
BEGIN:STANDARD
TZOFFSETFROM:-0300
TZOFFSETTO:-0300
TZNAME:-03
DTSTART:20240101T000000
END:STANDARD
END:VTIMEZONE
BEGIN:VEVENT
DTSTART;TZID=America/Sao_Paulo:20250829T193000
DTEND;TZID=America/Sao_Paulo:20250829T213000
DTSTAMP:20260419T201857
CREATED:20250815T174259Z
LAST-MODIFIED:20250815T181051Z
UID:28153-1756495800-1756503000@sbacvsp.com.br
SUMMARY:Pulse IA - Clínica Vascular - Agosto
DESCRIPTION:Objetivo: despertar\, informar e inspirar com temas curtos\, aplicáveis e conectados com a rotina do consultório\, hospital e planejamento de carreira. \nConsultório Inteligente: como usar dados e IA para ampliar performance e previsibilidade Ferramentas de BI\, automação de follow-ups\, dashboards simples com indicadores assistenciais e financeiros. \nIA na Prática Clínica: protocolos\, condutas esegunda opinião com ferramentas digitais. \nDemonstração de uso de IA para checagem de condutas clínicas baseadas em guidelines (OpenEvidence\, ChatGPT\, Perplexity\, UpToDate AI). \nEstratégias de Gestão para Cirurgiões: produtividade\, precificação e negociação com fontes pagadoras. \nMargem\, mix de procedimentos\, como argumentar valor assistencial com dados. \nJornada Digital do Paciente: como mapear e melhorar a experiência antes\, durante e depois do procedimento vascular. \nIA para análise de pontos de atrito\, mapeamento da dor do paciente e criação de fluxos de atendimento com maior adesão.
URL:https://sbacvsp.com.br/evento/pulse-ia-clinica-vascular-agosto/
LOCATION:Online
CATEGORIES:Simpósio
ATTACH;FMTTYPE=image/jpeg:https://vascular-2022-bucket.s3.amazonaws.com/wp-content/uploads/2025/08/15143910/8-Pulse_IA_Oficial-branco.jpg
ORGANIZER;CN="SBACV-SP":MAILTO:secretaria@sbacvsp.org.br
END:VEVENT
END:VCALENDAR